BEGIN:VCALENDAR
VERSION:2.0
PRODID:-//ChamberMaster//Event Calendar 2.0//EN
METHOD:PUBLISH
X-PUBLISHED-TTL:P3D
REFRESH-INTERVAL:P3D
CALSCALE:GREGORIAN
BEGIN:VEVENT
DTSTART:20260317T190000Z
DTEND:20260317T200000Z
X-MICROSOFT-CDO-ALLDAYEVENT:FALSE
SUMMARY:Member Relations Committee
DESCRIPTION:The Member Relations Committee supports the strategic direction of the Chamber to improve its value proposition and ensure programming and service excellence. \n\n\n\nThis committee meets virtually. Instructions for joining the meeting will be included in your confirmation email.
X-ALT-DESC;FMTTYPE=text/html:<p><span style="color: rgb(0\, 0\, 0)\; font-family: arial\; font-size: 18px\;">The Member Relations Committee supports the strategic direction of the Chamber to improve its value proposition and ensure programming and service excellence.&nbsp\;</span><br style="color: rgb(0\, 0\, 0)\; font-family: arial\; font-size: 18px\;" />\n<br style="color: rgb(0\, 0\, 0)\; font-family: arial\; font-size: 18px\;" />\n<span style="color: rgb(0\, 0\, 0)\; font-family: arial\; font-size: 18px\;">This committee meets virtually. Instructions for joining the meeting will be included in your confirmation email.</span></p>\n
LOCATION:Conference Room/hybrid
UID:e.890.16187
SEQUENCE:3
DTSTAMP:20260420T200014Z
URL:https://members.pghnorthchamber.com/events/details/member-relations-committee-03-17-2026-16187
END:VEVENT

END:VCALENDAR
