BEGIN:VCALENDAR
VERSION:2.0
PRODID:-//ChamberMaster//Event Calendar 2.0//EN
METHOD:PUBLISH
X-PUBLISHED-TTL:P3D
REFRESH-INTERVAL:P3D
CALSCALE:GREGORIAN
BEGIN:VEVENT
DTSTART:20260401T123000Z
DTEND:20260401T131500Z
X-MICROSOFT-CDO-ALLDAYEVENT:FALSE
SUMMARY:Community Outreach Committee
DESCRIPTION:The Community Outreach Committee focuses on community service and promoting goodwill within our regional footprint. This includes endeavors such as scholarships\, and annual Chamber programs such as Days of Caring and the Giving Tree.\n\n\n\nThe committee works in conjunction with the PNRC Staff and Board of Directors to identify worthwhile outreach endeavors to promote and support.\n\n\n\nThis committee meets virtually. Instructions for joining the meeting will be included in your registration confirmation email.\n\n\n\nQuestions? Contact Committee Chair Sheila Talarico at stalarico@gladerun.org or 724-452-4453.
X-ALT-DESC;FMTTYPE=text/html:<p><span style="color:#000000\;"><span style="font-size:18px\;"><span style="font-family:arial\;"><span background-color:="" font-size:="" trebuchet="">The Community Outreach Committee focuses on community service and promoting goodwill within our regional footprint. This includes endeavors such as scholarships\, and annual Chamber programs such as&nbsp\;Days of Caring and the Giving Tree.<br />\n<br />\nThe committee works in conjunction with the PNRC Staff and&nbsp\;Board of Directors to identify worthwhile outreach endeavors to promote and support.</span><br />\n<br />\n<span background-color:="" font-size:="" trebuchet="">This committee meets virtually. Instructions for joining the meeting will be included in your registration confirmation email.<br />\n<br />\nQuestions? Contact Committee Chair&nbsp\;<strong>Sheila Talarico&nbsp\;</strong>at&nbsp\;<a href="mailto:stalarico@gladerun.org">stalarico@gladerun.org</a></span></span></span></span><span style="color:#000000\;"><span style="font-size:18px\;"><span style="font-family:arial\;">&nbsp\;or 724-452-4453.</span></span></span></p>\n
LOCATION:
UID:e.890.16236
SEQUENCE:3
DTSTAMP:20260420T194121Z
URL:https://members.pghnorthchamber.com/events/details/community-outreach-committee-03-02-2026-16236
END:VEVENT

END:VCALENDAR
